{"text_format":"2","workbook":"xlsx","n_sheets":1,"sheets":["Лист1"],"not_rendered":{"charts":0,"images":0,"macros":0,"external_links":2,"defined_names":0,"comments":0,"pivot_tables":0},"unopened":[],"bounds":{"document_bytes":16777216,"sheet_cells":100000,"run_cost":"one","rows_first":2000,"rows_last":500,"rows_between":2000,"halvings":0,"cell_chars":16384,"cell_head_chars":4096},"cells_cut":0,"cells_raw":0,"read":"whole","date_system":"1900"}

{"sheet":"Лист1","index":0,"n_rows":154,"n_cols":12,"rows_kept":154,"cut":false,"hidden":false,"merged":[[0,2,0,4],[0,7,0,10],[1,7,1,10],[19,2,19,3],[34,2,34,3],[49,2,49,3],[62,2,62,3],[77,2,77,3],[93,2,93,3],[108,2,108,3],[123,2,123,3],[138,2,138,3],[153,2,153,3]]}
["Школа",null,"МБОУ гимназия №3 г.Пролетарска",null,null,"Соглосовал:","должность","И.о. директора "]
["Типовое примерное меню приготавливаемых блюд",{"$nulls":5},"фамилия","Савченко О.Н."]
["Возрастная категория",null,null,null,"7-11 лет",null,"дата",1,10,2025]
[{"$nulls":7},"день","месяц","год"]
["Неделя","День недели","Прием пищи","Раздел меню","Блюда","Вес блюда, г","Белки","Жиры","Углеводы","Калорийность","№ рецептуры","Цена"]
[1,1,"Завтрак",{"$f":"[1]!B4","v":"гор.блюдо"},"Омлет натуральный/ икра кабачковая",210,14.88,16.84,36.49,313.7,340.57,70.3]
[null,null,null,{"$f":"[1]!B5","v":"гор.напиток"},"Чай с лимоном",219,0.3,0.05,15.2,60,686,7.1]
[null,null,null,{"$f":"[1]!B6","v":"хлеб бел."},"Хлеб пшеничный йодированный",40,3.04,0.32,23.2,104.5,null,2.92]
[null,null,null,{"$f":"[1]!B7","v":"сладкое"},"Мармелад фруктово-ягодный",40,2.6,3.68,12.86,138.24,null,13.68]
[null,null,null,"итого",null,{"$f":"SUM(F6:F9)","v":509},{"$f":"SUM(G6:G9)","v":20.82},{"$f":"SUM(H6:H9)","v":20.89},{"$f":"SUM(I6:I9)","v":87.75},{"$f":"SUM(J6:J9)","v":616.44},null,{"$f":"SUM(L6:L9)","v":94}]
[{"$f":"A6","v":1},{"$f":"B6","v":1},"Обед","закуска"]
[null,null,null,"1 блюдо"]
[null,null,null,"2 блюдо"]
[null,null,null,"гарнир"]
[null,null,null,"напиток"]
[null,null,null,"хлеб бел."]
[null,null,null,"хлеб черн."]
[]
[null,null,null,"итого"]
[{"$f":"A5","v":"Неделя"},{"$f":"B5","v":"День недели"},"Итого за день:"]
[1,2,"Завтрак","гор.блюдо","Тефтели из птицы с соусом/Макаронные изделия отварные/Овощи свежие (помидоры)",350,16.41,18.62,50.15,406.97,462.332,82.28]
[null,null,null,"гор.напиток","Кофейный напиток  на молоке сгущенном",200,2.67,3.48,15.2,91.2,690,8.8]
[null,null,null,"хлеб бел.","Хлеб пшеничный йодированный",40,3.04,0.32,23.2,104.5,null,2.92]
[null,null,null,"итого",null,{"$f":"SUM(F21:F23)","v":590},{"$f":"SUM(G21:G23)","v":22.12},{"$f":"SUM(H21:H23)","v":22.42},{"$f":"SUM(I21:I23)","v":88.55},{"$f":"SUM(J21:J23)","v":602.67},null,{"$f":"SUM(L21:L23)","v":94}]
[{"$f":"A21","v":1},{"$f":"B21","v":2},"Обед","закуска"]
[null,null,null,"1 блюдо"]
[null,null,null,"2 блюдо"]
[null,null,null,"гарнир"]
[null,null,null,"напиток"]
[null,null,null,"хлеб бел."]
[null,null,null,"хлеб черн."]
[]
[]
[null,null,null,"итого",null,{"$f":"SUM(F25:F33)","v":0},{"$f":"SUM(G25:G33)","v":0},{"$f":"SUM(H25:H33)","v":0},{"$f":"SUM(I25:I33)","v":0},{"$f":"SUM(J25:J33)","v":0},null,0]
[{"$f":"A21","v":1},{"$f":"B21","v":2},"Итого за день:",null,null,{"$f":"F24+F34","v":590},{"$f":"G24+G34","v":22.12},22.42,{"$f":"I24+I34","v":88.55},{"$f":"J24+J34","v":602.67},null,94]
[1,3,"Завтрак",{"$f":"'[2]1'!B4","v":"гор.блюдо"},"Каша жидкая молочная пшённая/запеканка из творога с рисом и молоком сгущенным",370,22.11,22.25,78.48,610.9,"54-24к/315",90.4]
[null,null,null,{"$f":"'[2]1'!B6","v":"гор.напиток"},"Чай с сахаром",212,0.19,0.04,10.98,43.9,685,3.6]
[]
[null,null,null,"итого",null,{"$f":"SUM(F36:F38)","v":582},{"$f":"SUM(G36:G38)","v":22.3},{"$f":"SUM(H36:H38)","v":22.29},{"$f":"SUM(I36:I38)","v":89.46},{"$f":"SUM(J36:J38)","v":654.8},null,{"$f":"SUM(L36:L38)","v":94}]
[{"$f":"A36","v":1},{"$f":"B36","v":3},"Обед","закуска"]
[null,null,null,"1 блюдо"]
[null,null,null,"2 блюдо"]
[null,null,null,"гарнир"]
[null,null,null,"напиток"]
[null,null,null,"хлеб бел."]
[null,null,null,"хлеб черн."]
[]
[]
[null,null,null,"итого",null,null,{"$f":"SUM(G40:G48)","v":0},{"$f":"SUM(H40:H48)","v":0},{"$f":"SUM(I40:I48)","v":0},{"$f":"SUM(J40:J48)","v":0},null,0]
[{"$f":"A36","v":1},{"$f":"B36","v":3},"Итого за день:",null,null,{"$f":"F39+F49","v":582},{"$f":"G39+G49","v":22.3},{"$f":"H39+H49","v":22.29},{"$f":"I39+I49","v":89.46},{"$f":"J39+J49","v":654.8},null,94]
[1,4,"Завтрак","гор.блюдо","Гуляш из птицы, Каша вязкая пшеничная/Салат из квашенной капусты",300,17.46,20.48,54.89,436.11,"437, 510,45",86.9]
[null,null,null,"гор.напиток","Кофейный напиток  ",200,1.14,0.66,6.82,37.8,692,4.18]
[null,null,null,"хлеб бел.","Хлеб пшеничный йодированный",40,3.04,0.32,23.2,104.5,null,2.92]
[null,null,null,"итого",null,{"$f":"SUM(F51:F53)","v":540},21.64,21.46,84.91,578.41,null,94]
[{"$f":"A51","v":1},{"$f":"B51","v":4},"Обед","закуска"]
[null,null,null,"1 блюдо"]
[null,null,null,"2 блюдо"]
[null,null,null,"гарнир"]
[null,null,null,"напиток"]
[null,null,null,"хлеб бел."]
[null,null,null,"хлеб черн."]
[null,null,null,"итого",null,{"$f":"SUM(F55:F61)","v":0},{"$f":"SUM(G55:G61)","v":0},{"$f":"SUM(H55:H61)","v":0},{"$f":"SUM(I55:I61)","v":0},{"$f":"SUM(J55:J61)","v":0},null,{"$f":"SUM(L55:L61)","v":0}]
[{"$f":"A51","v":1},{"$f":"B51","v":4},"Итого за день:",null,null,{"$f":"F54+F62","v":540},{"$f":"G54+G62","v":21.64},{"$f":"H54+H62","v":21.46},{"$f":"I54+I62","v":84.91},{"$f":"J54+J62","v":578.41},null,{"$f":"L54+L62","v":94}]
[1,5,"Завтрак","гор.блюдо","Котлеты рубленые из птицы, Пюре картофельное, Овощи соленые (огурцы)",270,16.74,19.28,44.56,436.28,"498, 520",87.48]
[null,null,null,"гор.напиток","Чай с сахаром",212,0.19,0.04,10.98,43.9,685,3.6]
[null,null,null,"хлеб бел.","Хлеб пшеничный йодированный",40,3.04,0.32,23.2,104.5,null,2.92]
[null,null,null,"итого",null,{"$f":"SUM(F64:F66)","v":522},{"$f":"SUM(G64:G66)","v":19.97},{"$f":"SUM(H64:H66)","v":19.64},{"$f":"SUM(I64:I66)","v":78.74},{"$f":"SUM(J64:J66)","v":584.68},null,{"$f":"SUM(L64:L66)","v":94}]
[{"$f":"A64","v":1},{"$f":"B64","v":5},"Обед","закуска"]
[null,null,null,"1 блюдо"]
[null,null,null,"2 блюдо"]
[null,null,null,"гарнир"]
[null,null,null,"напиток"]
[null,null,null,"хлеб бел."]
[null,null,null,"хлеб черн."]
[]
[]
[null,null,null,"итого",null,{"$f":"SUM(F68:F76)","v":0},{"$f":"SUM(G68:G76)","v":0},{"$f":"SUM(H68:H76)","v":0},{"$f":"SUM(I68:I76)","v":0},{"$f":"SUM(J68:J76)","v":0},null,{"$f":"SUM(L68:L76)","v":0}]
[{"$f":"A64","v":1},{"$f":"B64","v":5},"Итого за день:",null,null,{"$f":"F67+F77","v":522},{"$f":"G67+G77","v":19.97},{"$f":"H67+H77","v":19.64},{"$f":"I67+I77","v":78.74},{"$f":"J67+J77","v":584.68},null,{"$f":"L67+L77","v":94}]
[2,1,"Завтрак","гор.блюдо","Плов из птицы,Салат из белокочанной капусты",240,14.73,11.65,35.5,352.1,"54-12м,43",56.48]
[null,null,null,"гор.напиток","Чай с сахаром",212,0.19,0.04,10.98,43.9,685,3.6]
[null,null,null,"хлеб бел.","Хлеб пшеничный йодированный",40,3.04,0.32,23.2,104.5,null,2.92]
[null,null,null,"сладкое","Пирожок с фруктовой начинкой",80,4.64,10.8,20.65,206.25,null,31]
[null,null,null,"итого",null,{"$f":"SUM(F79:F82)","v":572},22.6,22.81,90.33,706.75,685,94]
[{"$f":"A79","v":2},{"$f":"B79","v":1},"Обед","закуска"]
[null,null,null,"1 блюдо"]
[null,null,null,"2 блюдо"]
[null,null,null,"гарнир"]
[null,null,null,"напиток"]
[null,null,null,"хлеб бел."]
[null,null,null,"хлеб черн."]
[]
[]
[null,null,null,"итого",null,{"$f":"SUM(F84:F92)","v":0},{"$f":"SUM(G84:G92)","v":0},0,0,0,null,{"$f":"SUM(L84:L92)","v":0}]
[{"$f":"A79","v":2},{"$f":"B79","v":1},"Итого за день:",null,null,{"$f":"F83+F93","v":572},{"$f":"G83+G93","v":22.6},{"$f":"H83+H93","v":22.81},{"$f":"I83+I93","v":90.33},{"$f":"J83+J93","v":706.75},null,{"$f":"L83+L93","v":94}]
[2,2,"Завтрак","гор.блюдо","Котлеты мясо-картофельные по-хлыновски, Макаронные изделия отварные,салат из квашенной капусты",290,14.48,21.06,47.96,398.6,"454,332, 54-3 соус, 45",82.28]
[null,null,null,"гор.напиток","Кофейный напиток  на молоке сгущенном",200,3.87,3.48,15.2,91.2,690,8.8]
[null,null,null,"хлеб бел.","Хлеб пшеничный йодированный",40,3.04,0.32,23.2,104.5,null,2.92]
[null,null,null,"итого",null,{"$f":"SUM(F95:F97)","v":530},{"$f":"SUM(G95:G97)","v":21.39},{"$f":"SUM(H95:H97)","v":24.86},{"$f":"SUM(I95:I97)","v":86.36},{"$f":"SUM(J95:J97)","v":594.3},null,{"$f":"SUM(L95:L97)","v":94}]
[{"$f":"A95","v":2},{"$f":"B95","v":2},"Обед","закуска"]
[null,null,null,"1 блюдо"]
[null,null,null,"2 блюдо"]
[null,null,null,"гарнир"]
[null,null,null,"напиток"]
[null,null,null,"хлеб бел."]
[null,null,null,"хлеб черн."]
[]
[]
[null,null,null,"итого",null,{"$f":"SUM(F99:F107)","v":0},{"$f":"SUM(G99:G107)","v":0},0,0,0,null,{"$f":"SUM(L99:L107)","v":0}]
[{"$f":"A95","v":2},{"$f":"B95","v":2},"Итого за день:",null,null,{"$f":"F98+F108","v":530},{"$f":"G98+G108","v":21.39},{"$f":"H98+H108","v":24.86},{"$f":"I98+I108","v":86.36},{"$f":"J98+J108","v":594.3},null,94]
[2,3,"Завтрак","гор.блюдо","Каша вязкая молочная \"Дружба\", Блинчики с фруктовой начинкой",320,17.69,18.22,66.35,453,"302, 489",69.82]
[null,null,null,"гор.напиток","Кофейный напиток  ",200,1.14,0.66,6.82,37.8,692,4.18]
[null,null,null,"фрукты","Фрукты свежие (яблоки)",150,0.6,0.6,4.63,66.6,386,20]
[null,null,null,"итого",null,{"$f":"SUM(F110:F112)","v":670},{"$f":"SUM(G110:G112)","v":19.43},{"$f":"SUM(H110:H112)","v":19.48},{"$f":"SUM(I110:I112)","v":77.8},{"$f":"SUM(J110:J112)","v":557.4},null,{"$f":"SUM(L110:L112)","v":94}]
[{"$f":"A110","v":2},{"$f":"B110","v":3},"Обед","закуска"]
[null,null,null,"1 блюдо"]
[null,null,null,"2 блюдо"]
[null,null,null,"гарнир"]
[null,null,null,"напиток"]
[null,null,null,"хлеб бел."]
[null,null,null,"хлеб черн."]
[]
[]
[null,null,null,"итого",null,{"$f":"SUM(F114:F122)","v":0},{"$f":"SUM(G114:G122)","v":0},0,0,0,null,{"$f":"SUM(L114:L122)","v":0}]
[{"$f":"A110","v":2},{"$f":"B110","v":3},"Итого за день:",null,null,{"$f":"F113+F123","v":670},{"$f":"G113+G123","v":19.43},{"$f":"H113+H123","v":19.48},{"$f":"I113+I123","v":77.8},{"$f":"J113+J123","v":557.4},null,94]
[2,4,"Завтрак","гор.блюдо","Ёжики из птицы,Каша рассыпчатая гречневая,Каша рассыпчатая гречневая,Свекла отварная дольками",330,18.42,21.47,60.86,477.7,"54-15М,508, 54-28",87.48]
[null,null,null,"гор.напиток","Чай с сахаром",212,0.19,0.04,10.98,43.9,685,3.6]
[null,null,null,"хлеб бел.","Хлеб пшеничный йодированный",40,3.04,0.32,23.2,104.5,null,2.92]
[null,null,null,"итого",null,{"$f":"SUM(F125:F127)","v":582},{"$f":"SUM(G125:G127)","v":21.65},{"$f":"SUM(H125:H127)","v":21.83},{"$f":"SUM(I125:I127)","v":95.04},{"$f":"SUM(J125:J127)","v":626.1},null,{"$f":"SUM(L125:L127)","v":94}]
[{"$f":"A125","v":2},{"$f":"B125","v":4},"Обед","закуска"]
[null,null,null,"1 блюдо"]
[null,null,null,"2 блюдо"]
[null,null,null,"гарнир"]
[null,null,null,"напиток"]
[null,null,null,"хлеб бел."]
[null,null,null,"хлеб черн."]
[]
[]
[null,null,null,"итого",null,{"$f":"SUM(F129:F137)","v":0},{"$f":"SUM(G129:G137)","v":0},0,0,0,null,{"$f":"SUM(L129:L137)","v":0}]
[{"$f":"A125","v":2},{"$f":"B125","v":4},"Итого за день:",null,null,{"$f":"F128+F138","v":582},{"$f":"G128+G138","v":21.65},{"$f":"H128+H138","v":21.83},{"$f":"I128+I138","v":95.04},{"$f":"J128+J138","v":626.1},null,94]
[2,5,"Завтрак","гор.блюдо","Рыба, тушеная в томате с овощами , Пюре картофельное, Овощи соленые (огурцы)",275,14.69,18,47.46,420.85,"374, 520",87.48]
[null,null,null,"гор.напиток","Чай с сахаром",212,0.19,0.04,6.42,43.9,685,3.6]
[null,null,null,"хлеб бел.","Хлеб пшеничный йодированный",40,3.04,0.32,23.2,104.5,null,2.92]
[null,null,null,"итого",null,{"$f":"SUM(F140:F142)","v":527},{"$f":"SUM(G140:G142)","v":17.92},{"$f":"SUM(H140:H142)","v":18.36},{"$f":"SUM(I140:I142)","v":77.08},{"$f":"SUM(J140:J142)","v":569.25},null,{"$f":"SUM(L140:L142)","v":94}]
[{"$f":"A140","v":2},{"$f":"B140","v":5},"Обед","закуска"]
[null,null,null,"1 блюдо"]
[null,null,null,"2 блюдо"]
[null,null,null,"гарнир"]
[null,null,null,"напиток"]
[null,null,null,"хлеб бел."]
[null,null,null,"хлеб черн."]
[]
[]
[null,null,null,"итого",null,{"$f":"SUM(F144:F152)","v":0},{"$f":"SUM(G144:G152)","v":0},0,0,0,null,{"$f":"SUM(L144:L152)","v":0}]
[{"$f":"A140","v":2},{"$f":"B140","v":5},"Итого за день:",null,null,{"$f":"F143+F153","v":527},{"$f":"G143+G153","v":17.92},{"$f":"H143+H153","v":18.36},{"$f":"I143+I153","v":77.08},{"$f":"J143+J153","v":569.25},null,94]